BEGIN:VCALENDAR
VERSION:2.0
PRODID:-//Library Market//iCal Export//EN
BEGIN:VEVENT
SUMMARY:Chronicles of Yarnia
UID:20707
DTSTAMP:20260420T090200Z
DTSTART:20261027T223000Z
DTEND:20261028T003000Z
LOCATION:Pitkin County Library, 120 N. Mill St., Aspen, CO 81611, United S
 tates
ROOM: Dunaway Community Meeting Room
DESCRIPTION:
URL:https://pitkincounty.librarycalendar.com/event/chronicles-yarnia-20707
END:VEVENT
END:VCALENDAR
